Workbook
Name Check7: Sheet2!$C$20

Sheet Sheet1
A1: ارزیابی تهدیدات و مخاطرات شهرستان های استان قزوین پاییز 1402 شهرستان:
A3: مخاطره | B3: تكرارپذيري | C3: تکرار پذیری | D3: احتمال | E3: احتمال | F3: شدت | G3: شدت | H3: آسيب زايي | I3: آسیب | J3: امتياز كل مخاطره
A4: زلزله | C4: =IF(B4=Sheet2!$C$4,"1",IF(B4=Sheet2!$C$5,"2",IF(B4=Sheet2!$C$6,"3",IF(B4=Sheet2!$C$7,"4",IF(B4=Sheet2!$C$8,"5",0))))) -> 0 | E4: =IF(D4=Sheet2!$C$12,"1",IF(D4=Sheet2!$C$13,"2",IF(D4=Sheet2!$C$14,"3",IF(D4=Sheet2!$C$15,"4",IF(D4=Sheet2!$C$16,"5",0))))) -> 0 | G4: =IF(F4=Sheet2!$F$4,"1",IF(F4=Sheet2!$F$5,"1",IF(F4=Sheet2!$F$6,"1",IF(F4=Sheet2!$F$7,"1",IF(F4=Sheet2!$F$8,"2",IF(F4=Sheet2!$F$9,"2",IF(F4=Sheet2!$F$10,"2",IF(F4=Sheet2!$F$11,"2",IF(F4=Sheet2!$F$12,"2",IF(F4=Sheet2!$F$13,"3",IF(F4=Sheet2!$F$14,"3",IF(F4=Sheet2!$F$15,"3",IF(F4=Sheet2!$F$16,"3",IF(F4=Sheet2!$F$17,"3",IF(F4=Sheet2!$F$18,"4",IF(F4=Sheet2!$F$19,"4",IF(F4=Sheet2!$F$20,"4",IF(F4=Sheet2!$F$21,"4",IF(F4=Sheet2!$F$22,"4",IF(F4=Sheet2!$F$23,"5",IF(F4=Sheet2!$F$24,"5",IF(F4=Sheet2!$F$25,"5",IF(F4=Sheet2!$F$26,"5",IF(F4=Sheet2!$F$27,"5",0)))))))))))))))))))))))) -> 0 | I4: =IF(H4=Sheet2!$C$19,"1",IF(H4=Sheet2!$C$20,"2",IF(H4=Sheet2!$C$21,"3",IF(H4=Sheet2!$C$22,"4",IF(H4=Sheet2!$C$23,"5",0))))) -> 0 | J4: =(C4*7)+(E4*2)+(G4*6)+(I4*5) -> 0
A5: رانش زمین | C5: =IF(B5=Sheet2!$C$4,"1",IF(B5=Sheet2!$C$5,"2",IF(B5=Sheet2!$C$6,"3",IF(B5=Sheet2!$C$7,"4",IF(B5=Sheet2!$C$8,"5",0))))) -> 0 | E5: =IF(D5=Sheet2!$C$12,"1",IF(D5=Sheet2!$C$13,"2",IF(D5=Sheet2!$C$14,"3",IF(D5=Sheet2!$C$15,"4",IF(D5=Sheet2!$C$16,"5",0))))) -> 0 | G5: =IF(F5=Sheet2!$F$4,"1",IF(F5=Sheet2!$F$5,"1",IF(F5=Sheet2!$F$6,"1",IF(F5=Sheet2!$F$7,"1",IF(F5=Sheet2!$F$8,"2",IF(F5=Sheet2!$F$9,"2",IF(F5=Sheet2!$F$10,"2",IF(F5=Sheet2!$F$11,"2",IF(F5=Sheet2!$F$12,"2",IF(F5=Sheet2!$F$13,"3",IF(F5=Sheet2!$F$14,"3",IF(F5=Sheet2!$F$15,"3",IF(F5=Sheet2!$F$16,"3",IF(F5=Sheet2!$F$17,"3",IF(F5=Sheet2!$F$18,"4",IF(F5=Sheet2!$F$19,"4",IF(F5=Sheet2!$F$20,"4",IF(F5=Sheet2!$F$21,"4",IF(F5=Sheet2!$F$22,"4",IF(F5=Sheet2!$F$23,"5",IF(F5=Sheet2!$F$24,"5",IF(F5=Sheet2!$F$25,"5",IF(F5=Sheet2!$F$26,"5",IF(F5=Sheet2!$F$27,"5",0)))))))))))))))))))))))) -> 0 | I5: =IF(H5=Sheet2!$C$19,"1",IF(H5=Sheet2!$C$20,"2",IF(H5=Sheet2!$C$21,"3",IF(H5=Sheet2!$C$22,"4",IF(H5=Sheet2!$C$23,"5",0))))) -> 0 | J5: =(C5*7)+(E5*2)+(G5*6)+(I5*5) -> 0
A6: فرونشست زمين | C6: =IF(B6=Sheet2!$C$4,"1",IF(B6=Sheet2!$C$5,"2",IF(B6=Sheet2!$C$6,"3",IF(B6=Sheet2!$C$7,"4",IF(B6=Sheet2!$C$8,"5",0))))) -> 0 | E6: =IF(D6=Sheet2!$C$12,"1",IF(D6=Sheet2!$C$13,"2",IF(D6=Sheet2!$C$14,"3",IF(D6=Sheet2!$C$15,"4",IF(D6=Sheet2!$C$16,"5",0))))) -> 0 | G6: =IF(F6=Sheet2!$F$4,"1",IF(F6=Sheet2!$F$5,"1",IF(F6=Sheet2!$F$6,"1",IF(F6=Sheet2!$F$7,"1",IF(F6=Sheet2!$F$8,"2",IF(F6=Sheet2!$F$9,"2",IF(F6=Sheet2!$F$10,"2",IF(F6=Sheet2!$F$11,"2",IF(F6=Sheet2!$F$12,"2",IF(F6=Sheet2!$F$13,"3",IF(F6=Sheet2!$F$14,"3",IF(F6=Sheet2!$F$15,"3",IF(F6=Sheet2!$F$16,"3",IF(F6=Sheet2!$F$17,"3",IF(F6=Sheet2!$F$18,"4",IF(F6=Sheet2!$F$19,"4",IF(F6=Sheet2!$F$20,"4",IF(F6=Sheet2!$F$21,"4",IF(F6=Sheet2!$F$22,"4",IF(F6=Sheet2!$F$23,"5",IF(F6=Sheet2!$F$24,"5",IF(F6=Sheet2!$F$25,"5",IF(F6=Sheet2!$F$26,"5",IF(F6=Sheet2!$F$27,"5",0)))))))))))))))))))))))) -> 0 | I6: =IF(H6=Sheet2!$C$19,"1",IF(H6=Sheet2!$C$20,"2",IF(H6=Sheet2!$C$21,"3",IF(H6=Sheet2!$C$22,"4",IF(H6=Sheet2!$C$23,"5",0))))) -> 0 | J6: =(C6*7)+(E6*2)+(G6*6)+(I6*5) -> 0
A7: گرماي شديد | C7: =IF(B7=Sheet2!$C$4,"1",IF(B7=Sheet2!$C$5,"2",IF(B7=Sheet2!$C$6,"3",IF(B7=Sheet2!$C$7,"4",IF(B7=Sheet2!$C$8,"5",0))))) -> 0 | E7: =IF(D7=Sheet2!$C$12,"1",IF(D7=Sheet2!$C$13,"2",IF(D7=Sheet2!$C$14,"3",IF(D7=Sheet2!$C$15,"4",IF(D7=Sheet2!$C$16,"5",0))))) -> 0 | G7: =IF(F7=Sheet2!$F$4,"1",IF(F7=Sheet2!$F$5,"1",IF(F7=Sheet2!$F$6,"1",IF(F7=Sheet2!$F$7,"1",IF(F7=Sheet2!$F$8,"2",IF(F7=Sheet2!$F$9,"2",IF(F7=Sheet2!$F$10,"2",IF(F7=Sheet2!$F$11,"2",IF(F7=Sheet2!$F$12,"2",IF(F7=Sheet2!$F$13,"3",IF(F7=Sheet2!$F$14,"3",IF(F7=Sheet2!$F$15,"3",IF(F7=Sheet2!$F$16,"3",IF(F7=Sheet2!$F$17,"3",IF(F7=Sheet2!$F$18,"4",IF(F7=Sheet2!$F$19,"4",IF(F7=Sheet2!$F$20,"4",IF(F7=Sheet2!$F$21,"4",IF(F7=Sheet2!$F$22,"4",IF(F7=Sheet2!$F$23,"5",IF(F7=Sheet2!$F$24,"5",IF(F7=Sheet2!$F$25,"5",IF(F7=Sheet2!$F$26,"5",IF(F7=Sheet2!$F$27,"5",0)))))))))))))))))))))))) -> 0 | I7: =IF(H7=Sheet2!$C$19,"1",IF(H7=Sheet2!$C$20,"2",IF(H7=Sheet2!$C$21,"3",IF(H7=Sheet2!$C$22,"4",IF(H7=Sheet2!$C$23,"5",0))))) -> 0 | J7: =(C7*7)+(E7*2)+(G7*6)+(I7*5) -> 0
A8: سرماي شديد | C8: =IF(B8=Sheet2!$C$4,"1",IF(B8=Sheet2!$C$5,"2",IF(B8=Sheet2!$C$6,"3",IF(B8=Sheet2!$C$7,"4",IF(B8=Sheet2!$C$8,"5",0))))) -> 0 | E8: =IF(D8=Sheet2!$C$12,"1",IF(D8=Sheet2!$C$13,"2",IF(D8=Sheet2!$C$14,"3",IF(D8=Sheet2!$C$15,"4",IF(D8=Sheet2!$C$16,"5",0))))) -> 0 | G8: =IF(F8=Sheet2!$F$4,"1",IF(F8=Sheet2!$F$5,"1",IF(F8=Sheet2!$F$6,"1",IF(F8=Sheet2!$F$7,"1",IF(F8=Sheet2!$F$8,"2",IF(F8=Sheet2!$F$9,"2",IF(F8=Sheet2!$F$10,"2",IF(F8=Sheet2!$F$11,"2",IF(F8=Sheet2!$F$12,"2",IF(F8=Sheet2!$F$13,"3",IF(F8=Sheet2!$F$14,"3",IF(F8=Sheet2!$F$15,"3",IF(F8=Sheet2!$F$16,"3",IF(F8=Sheet2!$F$17,"3",IF(F8=Sheet2!$F$18,"4",IF(F8=Sheet2!$F$19,"4",IF(F8=Sheet2!$F$20,"4",IF(F8=Sheet2!$F$21,"4",IF(F8=Sheet2!$F$22,"4",IF(F8=Sheet2!$F$23,"5",IF(F8=Sheet2!$F$24,"5",IF(F8=Sheet2!$F$25,"5",IF(F8=Sheet2!$F$26,"5",IF(F8=Sheet2!$F$27,"5",0)))))))))))))))))))))))) -> 0 | I8: =IF(H8=Sheet2!$C$19,"1",IF(H8=Sheet2!$C$20,"2",IF(H8=Sheet2!$C$21,"3",IF(H8=Sheet2!$C$22,"4",IF(H8=Sheet2!$C$23,"5",0))))) -> 0 | J8: =(C8*7)+(E8*2)+(G8*6)+(I8*5) -> 0
A9: بارش برف سنگين | C9: =IF(B9=Sheet2!$C$4,"1",IF(B9=Sheet2!$C$5,"2",IF(B9=Sheet2!$C$6,"3",IF(B9=Sheet2!$C$7,"4",IF(B9=Sheet2!$C$8,"5",0))))) -> 0 | E9: =IF(D9=Sheet2!$C$12,"1",IF(D9=Sheet2!$C$13,"2",IF(D9=Sheet2!$C$14,"3",IF(D9=Sheet2!$C$15,"4",IF(D9=Sheet2!$C$16,"5",0))))) -> 0 | G9: =IF(F9=Sheet2!$F$4,"1",IF(F9=Sheet2!$F$5,"1",IF(F9=Sheet2!$F$6,"1",IF(F9=Sheet2!$F$7,"1",IF(F9=Sheet2!$F$8,"2",IF(F9=Sheet2!$F$9,"2",IF(F9=Sheet2!$F$10,"2",IF(F9=Sheet2!$F$11,"2",IF(F9=Sheet2!$F$12,"2",IF(F9=Sheet2!$F$13,"3",IF(F9=Sheet2!$F$14,"3",IF(F9=Sheet2!$F$15,"3",IF(F9=Sheet2!$F$16,"3",IF(F9=Sheet2!$F$17,"3",IF(F9=Sheet2!$F$18,"4",IF(F9=Sheet2!$F$19,"4",IF(F9=Sheet2!$F$20,"4",IF(F9=Sheet2!$F$21,"4",IF(F9=Sheet2!$F$22,"4",IF(F9=Sheet2!$F$23,"5",IF(F9=Sheet2!$F$24,"5",IF(F9=Sheet2!$F$25,"5",IF(F9=Sheet2!$F$26,"5",IF(F9=Sheet2!$F$27,"5",0)))))))))))))))))))))))) -> 0 | I9: =IF(H9=Sheet2!$C$19,"1",IF(H9=Sheet2!$C$20,"2",IF(H9=Sheet2!$C$21,"3",IF(H9=Sheet2!$C$22,"4",IF(H9=Sheet2!$C$23,"5",0))))) -> 0 | J9: =(C9*7)+(E9*2)+(G9*6)+(I9*5) -> 0
A10: كولاك | C10: =IF(B10=Sheet2!$C$4,"1",IF(B10=Sheet2!$C$5,"2",IF(B10=Sheet2!$C$6,"3",IF(B10=Sheet2!$C$7,"4",IF(B10=Sheet2!$C$8,"5",0))))) -> 0 | E10: =IF(D10=Sheet2!$C$12,"1",IF(D10=Sheet2!$C$13,"2",IF(D10=Sheet2!$C$14,"3",IF(D10=Sheet2!$C$15,"4",IF(D10=Sheet2!$C$16,"5",0))))) -> 0 | G10: =IF(F10=Sheet2!$F$4,"1",IF(F10=Sheet2!$F$5,"1",IF(F10=Sheet2!$F$6,"1",IF(F10=Sheet2!$F$7,"1",IF(F10=Sheet2!$F$8,"2",IF(F10=Sheet2!$F$9,"2",IF(F10=Sheet2!$F$10,"2",IF(F10=Sheet2!$F$11,"2",IF(F10=Sheet2!$F$12,"2",IF(F10=Sheet2!$F$13,"3",IF(F10=Sheet2!$F$14,"3",IF(F10=Sheet2!$F$15,"3",IF(F10=Sheet2!$F$16,"3",IF(F10=Sheet2!$F$17,"3",IF(F10=Sheet2!$F$18,"4",IF(F10=Sheet2!$F$19,"4",IF(F10=Sheet2!$F$20,"4",IF(F10=Sheet2!$F$21,"4",IF(F10=Sheet2!$F$22,"4",IF(F10=Sheet2!$F$23,"5",IF(F10=Sheet2!$F$24,"5",IF(F10=Sheet2!$F$25,"5",IF(F10=Sheet2!$F$26,"5",IF(F10=Sheet2!$F$27,"5",0)))))))))))))))))))))))) -> 0 | I10: =IF(H10=Sheet2!$C$19,"1",IF(H10=Sheet2!$C$20,"2",IF(H10=Sheet2!$C$21,"3",IF(H10=Sheet2!$C$22,"4",IF(H10=Sheet2!$C$23,"5",0))))) -> 0 | J10: =(C10*7)+(E10*2)+(G10*6)+(I10*5) -> 0
A11: بهمن | C11: =IF(B11=Sheet2!$C$4,"1",IF(B11=Sheet2!$C$5,"2",IF(B11=Sheet2!$C$6,"3",IF(B11=Sheet2!$C$7,"4",IF(B11=Sheet2!$C$8,"5",0))))) -> 0 | E11: =IF(D11=Sheet2!$C$12,"1",IF(D11=Sheet2!$C$13,"2",IF(D11=Sheet2!$C$14,"3",IF(D11=Sheet2!$C$15,"4",IF(D11=Sheet2!$C$16,"5",0))))) -> 0 | G11: =IF(F11=Sheet2!$F$4,"1",IF(F11=Sheet2!$F$5,"1",IF(F11=Sheet2!$F$6,"1",IF(F11=Sheet2!$F$7,"1",IF(F11=Sheet2!$F$8,"2",IF(F11=Sheet2!$F$9,"2",IF(F11=Sheet2!$F$10,"2",IF(F11=Sheet2!$F$11,"2",IF(F11=Sheet2!$F$12,"2",IF(F11=Sheet2!$F$13,"3",IF(F11=Sheet2!$F$14,"3",IF(F11=Sheet2!$F$15,"3",IF(F11=Sheet2!$F$16,"3",IF(F11=Sheet2!$F$17,"3",IF(F11=Sheet2!$F$18,"4",IF(F11=Sheet2!$F$19,"4",IF(F11=Sheet2!$F$20,"4",IF(F11=Sheet2!$F$21,"4",IF(F11=Sheet2!$F$22,"4",IF(F11=Sheet2!$F$23,"5",IF(F11=Sheet2!$F$24,"5",IF(F11=Sheet2!$F$25,"5",IF(F11=Sheet2!$F$26,"5",IF(F11=Sheet2!$F$27,"5",0)))))))))))))))))))))))) -> 0 | I11: =IF(H11=Sheet2!$C$19,"1",IF(H11=Sheet2!$C$20,"2",IF(H11=Sheet2!$C$21,"3",IF(H11=Sheet2!$C$22,"4",IF(H11=Sheet2!$C$23,"5",0))))) -> 0 | J11: =(C11*7)+(E11*2)+(G11*6)+(I11*5) -> 0
A12: طوفان | C12: =IF(B12=Sheet2!$C$4,"1",IF(B12=Sheet2!$C$5,"2",IF(B12=Sheet2!$C$6,"3",IF(B12=Sheet2!$C$7,"4",IF(B12=Sheet2!$C$8,"5",0))))) -> 0 | E12: =IF(D12=Sheet2!$C$12,"1",IF(D12=Sheet2!$C$13,"2",IF(D12=Sheet2!$C$14,"3",IF(D12=Sheet2!$C$15,"4",IF(D12=Sheet2!$C$16,"5",0))))) -> 0 | G12: =IF(F12=Sheet2!$F$4,"1",IF(F12=Sheet2!$F$5,"1",IF(F12=Sheet2!$F$6,"1",IF(F12=Sheet2!$F$7,"1",IF(F12=Sheet2!$F$8,"2",IF(F12=Sheet2!$F$9,"2",IF(F12=Sheet2!$F$10,"2",IF(F12=Sheet2!$F$11,"2",IF(F12=Sheet2!$F$12,"2",IF(F12=Sheet2!$F$13,"3",IF(F12=Sheet2!$F$14,"3",IF(F12=Sheet2!$F$15,"3",IF(F12=Sheet2!$F$16,"3",IF(F12=Sheet2!$F$17,"3",IF(F12=Sheet2!$F$18,"4",IF(F12=Sheet2!$F$19,"4",IF(F12=Sheet2!$F$20,"4",IF(F12=Sheet2!$F$21,"4",IF(F12=Sheet2!$F$22,"4",IF(F12=Sheet2!$F$23,"5",IF(F12=Sheet2!$F$24,"5",IF(F12=Sheet2!$F$25,"5",IF(F12=Sheet2!$F$26,"5",IF(F12=Sheet2!$F$27,"5",0)))))))))))))))))))))))) -> 0 | I12: =IF(H12=Sheet2!$C$19,"1",IF(H12=Sheet2!$C$20,"2",IF(H12=Sheet2!$C$21,"3",IF(H12=Sheet2!$C$22,"4",IF(H12=Sheet2!$C$23,"5",0))))) -> 0 | J12: =(C12*7)+(E12*2)+(G12*6)+(I12*5) -> 0
A13: صاعقه | C13: =IF(B13=Sheet2!$C$4,"1",IF(B13=Sheet2!$C$5,"2",IF(B13=Sheet2!$C$6,"3",IF(B13=Sheet2!$C$7,"4",IF(B13=Sheet2!$C$8,"5",0))))) -> 0 | E13: =IF(D13=Sheet2!$C$12,"1",IF(D13=Sheet2!$C$13,"2",IF(D13=Sheet2!$C$14,"3",IF(D13=Sheet2!$C$15,"4",IF(D13=Sheet2!$C$16,"5",0))))) -> 0 | G13: =IF(F13=Sheet2!$F$4,"1",IF(F13=Sheet2!$F$5,"1",IF(F13=Sheet2!$F$6,"1",IF(F13=Sheet2!$F$7,"1",IF(F13=Sheet2!$F$8,"2",IF(F13=Sheet2!$F$9,"2",IF(F13=Sheet2!$F$10,"2",IF(F13=Sheet2!$F$11,"2",IF(F13=Sheet2!$F$12,"2",IF(F13=Sheet2!$F$13,"3",IF(F13=Sheet2!$F$14,"3",IF(F13=Sheet2!$F$15,"3",IF(F13=Sheet2!$F$16,"3",IF(F13=Sheet2!$F$17,"3",IF(F13=Sheet2!$F$18,"4",IF(F13=Sheet2!$F$19,"4",IF(F13=Sheet2!$F$20,"4",IF(F13=Sheet2!$F$21,"4",IF(F13=Sheet2!$F$22,"4",IF(F13=Sheet2!$F$23,"5",IF(F13=Sheet2!$F$24,"5",IF(F13=Sheet2!$F$25,"5",IF(F13=Sheet2!$F$26,"5",IF(F13=Sheet2!$F$27,"5",0)))))))))))))))))))))))) -> 0 | I13: =IF(H13=Sheet2!$C$19,"1",IF(H13=Sheet2!$C$20,"2",IF(H13=Sheet2!$C$21,"3",IF(H13=Sheet2!$C$22,"4",IF(H13=Sheet2!$C$23,"5",0))))) -> 0 | J13: =(C13*7)+(E13*2)+(G13*6)+(I13*5) -> 0
A14: آتش سوزي منابع طبیعی | C14: =IF(B14=Sheet2!$C$4,"1",IF(B14=Sheet2!$C$5,"2",IF(B14=Sheet2!$C$6,"3",IF(B14=Sheet2!$C$7,"4",IF(B14=Sheet2!$C$8,"5",0))))) -> 0 | E14: =IF(D14=Sheet2!$C$12,"1",IF(D14=Sheet2!$C$13,"2",IF(D14=Sheet2!$C$14,"3",IF(D14=Sheet2!$C$15,"4",IF(D14=Sheet2!$C$16,"5",0))))) -> 0 | G14: =IF(F14=Sheet2!$F$4,"1",IF(F14=Sheet2!$F$5,"1",IF(F14=Sheet2!$F$6,"1",IF(F14=Sheet2!$F$7,"1",IF(F14=Sheet2!$F$8,"2",IF(F14=Sheet2!$F$9,"2",IF(F14=Sheet2!$F$10,"2",IF(F14=Sheet2!$F$11,"2",IF(F14=Sheet2!$F$12,"2",IF(F14=Sheet2!$F$13,"3",IF(F14=Sheet2!$F$14,"3",IF(F14=Sheet2!$F$15,"3",IF(F14=Sheet2!$F$16,"3",IF(F14=Sheet2!$F$17,"3",IF(F14=Sheet2!$F$18,"4",IF(F14=Sheet2!$F$19,"4",IF(F14=Sheet2!$F$20,"4",IF(F14=Sheet2!$F$21,"4",IF(F14=Sheet2!$F$22,"4",IF(F14=Sheet2!$F$23,"5",IF(F14=Sheet2!$F$24,"5",IF(F14=Sheet2!$F$25,"5",IF(F14=Sheet2!$F$26,"5",IF(F14=Sheet2!$F$27,"5",0)))))))))))))))))))))))) -> 0 | I14: =IF(H14=Sheet2!$C$19,"1",IF(H14=Sheet2!$C$20,"2",IF(H14=Sheet2!$C$21,"3",IF(H14=Sheet2!$C$22,"4",IF(H14=Sheet2!$C$23,"5",0))))) -> 0 | J14: =(C14*7)+(E14*2)+(G14*6)+(I14*5) -> 0
A15: سيل | C15: =IF(B15=Sheet2!$C$4,"1",IF(B15=Sheet2!$C$5,"2",IF(B15=Sheet2!$C$6,"3",IF(B15=Sheet2!$C$7,"4",IF(B15=Sheet2!$C$8,"5",0))))) -> 0 | E15: =IF(D15=Sheet2!$C$12,"1",IF(D15=Sheet2!$C$13,"2",IF(D15=Sheet2!$C$14,"3",IF(D15=Sheet2!$C$15,"4",IF(D15=Sheet2!$C$16,"5",0))))) -> 0 | G15: =IF(F15=Sheet2!$F$4,"1",IF(F15=Sheet2!$F$5,"1",IF(F15=Sheet2!$F$6,"1",IF(F15=Sheet2!$F$7,"1",IF(F15=Sheet2!$F$8,"2",IF(F15=Sheet2!$F$9,"2",IF(F15=Sheet2!$F$10,"2",IF(F15=Sheet2!$F$11,"2",IF(F15=Sheet2!$F$12,"2",IF(F15=Sheet2!$F$13,"3",IF(F15=Sheet2!$F$14,"3",IF(F15=Sheet2!$F$15,"3",IF(F15=Sheet2!$F$16,"3",IF(F15=Sheet2!$F$17,"3",IF(F15=Sheet2!$F$18,"4",IF(F15=Sheet2!$F$19,"4",IF(F15=Sheet2!$F$20,"4",IF(F15=Sheet2!$F$21,"4",IF(F15=Sheet2!$F$22,"4",IF(F15=Sheet2!$F$23,"5",IF(F15=Sheet2!$F$24,"5",IF(F15=Sheet2!$F$25,"5",IF(F15=Sheet2!$F$26,"5",IF(F15=Sheet2!$F$27,"5",0)))))))))))))))))))))))) -> 0 | I15: =IF(H15=Sheet2!$C$19,"1",IF(H15=Sheet2!$C$20,"2",IF(H15=Sheet2!$C$21,"3",IF(H15=Sheet2!$C$22,"4",IF(H15=Sheet2!$C$23,"5",0))))) -> 0 | J15: =(C15*7)+(E15*2)+(G15*6)+(I15*5) -> 0
... A34: تجمع انبوه | C34: =IF(B34=Sheet2!$C$4,"1",IF(B34=Sheet2!$C$5,"2",IF(B34=Sheet2!$C$6,"3",IF(B34=Sheet2!$C$7,"4",IF(B34=Sheet2!$C$8,"5",0))))) -> 0 | E34: =IF(D34=Sheet2!$C$12,"1",IF(D34=Sheet2!$C$13,"2",IF(D34=Sheet2!$C$14,"3",IF(D34=Sheet2!$C$15,"4",IF(D34=Sheet2!$C$16,"5",0))))) -> 0 | G34: =IF(F34=Sheet2!$F$4,"1",IF(F34=Sheet2!$F$5,"1",IF(F34=Sheet2!$F$6,"1",IF(F34=Sheet2!$F$7,"1",IF(F34=Sheet2!$F$8,"2",IF(F34=Sheet2!$F$9,"2",IF(F34=Sheet2!$F$10,"2",IF(F34=Sheet2!$F$11,"2",IF(F34=Sheet2!$F$12,"2",IF(F34=Sheet2!$F$13,"3",IF(F34=Sheet2!$F$14,"3",IF(F34=Sheet2!$F$15,"3",IF(F34=Sheet2!$F$16,"3",IF(F34=Sheet2!$F$17,"3",IF(F34=Sheet2!$F$18,"4",IF(F34=Sheet2!$F$19,"4",IF(F34=Sheet2!$F$20,"4",IF(F34=Sheet2!$F$21,"4",IF(F34=Sheet2!$F$22,"4",IF(F34=Sheet2!$F$23,"5",IF(F34=Sheet2!$F$24,"5",IF(F34=Sheet2!$F$25,"5",IF(F34=Sheet2!$F$26,"5",IF(F34=Sheet2!$F$27,"5",0)))))))))))))))))))))))) -> 0 | I34: =IF(H34=Sheet2!$C$19,"1",IF(H34=Sheet2!$C$20,"2",IF(H34=Sheet2!$C$21,"3",IF(H34=Sheet2!$C$22,"4",IF(H34=Sheet2!$C$23,"5",0))))) -> 0 | J34: =(C34*7)+(E34*2)+(G34*6)+(I34*5) -> 0

Sheet Sheet2
B3: سطح تكرارپذيري | C3: تعريف | E3: سطح شدت | F3: تعريف
B4: 1 | C4: عدم اتفاق در بيست سال گذشته= 1 | E4: 1 | F4: عدم تاثیر روي سلامت مردم منطقه=1
B5: 2 | C5: 1‌ بار در بيست سال گذشته= 2 | F5: خسارات مالي كمتر از يك ميليارد ريال=1
B6: 3 | C6: 2 تا 3 بار در بيست سال گذشته= 3 | F6: بدون بي خانمان=1
B7: 4 | C7: 4 تا 5 بار در بيست سال گذشته= 4 | F7: عدم تاثیر بر ارائه خدمات سلامت=1
B8: 5 | C8: بيشتر از 5 بار در بيست سال گذشته= 5 | E8: 2 | F8: كشته: يك تا دو نفر=2
F9: مصدوم: يك تا پنج نفر=2
F10: خسارات مالي بيش از يك ميليارد تا 10 ميليارد ريال=2
B11: سطح احتمال | C11: تعريف | F11: بين يك تا 100 نفر بي خانمان=2
B12: 1 | C12: احتمال وقوع بسيار نادر= 1 | F12: ايجاد اختلال در ارائه خدمات سلامت 2- 0 ساعت=2
B13: 2 | C13: احتمال وقوع در بيش از 20 سال آينده= 2 | E13: 3 | F13: كشته: سه تا پنج نفر=3
B14: 3 | C14: احتمال وقوع در 20-10 سال آينده= 3 | F14: مصدوم: شش تا نه نفر=3
B15: 4 | C15: احتمال وقوع در 10-5 سال آينده= 4 | F15: خسارات مالي بيش از 10 ميليارد تا 200 ميليارد ريال=3
B16: 5 | C16: احتمال وقوع در كمتر از 5 سال آينده= 5 | F16: بين 101 تا 1000 نفر بي خانمان=3
F17: ايجاد اختلال در ارائه خدمات سلامت 12- 2 ساعت=3
B18: سطح آسيب‌زايي | C18: تعريف | E18: 4 | F18: كشته: شش تا نه نفر=4
B19: 1 | C19: براي كمتر از 20 درصد جمعيت در معرض= 1 | F19: مصدوم:10 تا 99 نفر=4
B20: 2 | C20: براي 40-21 درصد جمعيت در معرض= 2 | F20: خسارات مالي بيش از 200 ميليارد تا 500 ميليارد ريال=4
B21: 3 | C21: براي 60-41 درصد جمعيت در معرض= 3 | F21: بين 1001 تا 10000 نفر بي خانمان=4
B22: 4 | C22: براي 80-61 درصد جمعيت در معرض= 4 | F22: ايجاد اختلال در ارائه خدمات سلامت 24- 12 ساعت=4
B23: 5 | C23: براي 100-81 درصد جمعيت در معرض= 5 | E23: 5 | F23: كشته: بيش از 10 نفر=5
F24: مصدوم: بيش از 100 نفر=5
F25: خسارات مالي بيش از 500 ميليارد ريال=5
F26: بيش از 10000 نفر بي خانمان=5
F27: ايجاد اختلال در ارائه خدمات سلامت بيش از 24 ساعت=5
